BEGIN:VCALENDAR
VERSION:2.0
PRODID:-//A Million Little Miracles - ECPv6.10.1.1//NONSGML v1.0//EN
CALSCALE:GREGORIAN
METHOD:PUBLISH
X-ORIGINAL-URL:https://a-million-little-miracles.com
X-WR-CALDESC:Events for A Million Little Miracles
REFRESH-INTERVAL;VALUE=DURATION:PT1H
X-Robots-Tag:noindex
X-PUBLISHED-TTL:PT1H
BEGIN:VTIMEZONE
TZID:UTC
BEGIN:STANDARD
TZOFFSETFROM:+0000
TZOFFSETTO:+0000
TZNAME:UTC
DTSTART:20230101T000000
END:STANDARD
END:VTIMEZONE
BEGIN:VEVENT
DTSTART;VALUE=DATE:20231215
DTEND;VALUE=DATE:20231216
DTSTAMP:20260419T160518
CREATED:20231129T054237Z
LAST-MODIFIED:20231129T060942Z
UID:969-1702598400-1702684799@a-million-little-miracles.com
SUMMARY:Wear a hat and scarf to stay warm!
DESCRIPTION:Wear a hat and scarf to stay warm while we watch Frosty the Snowman then make snow cream!
URL:https://a-million-little-miracles.com/event/wear-a-hat-and-scarf-to-stay-warm/
END:VEVENT
END:VCALENDAR